{"text_format":"1","workbook":"xlsx","n_sheets":2,"sheets":["Data","CMIMI"],"not_rendered":{"charts":0,"images":0,"macros":1,"external_links":0,"defined_names":0,"comments":1,"pivot_tables":0},"unopened":[],"bounds":{"document_bytes":16777216,"sheet_cells":100000,"rows_first":2000,"rows_last":500,"rows_between":2000,"halvings":0,"cell_chars":16384,"cell_head_chars":4096},"cells_cut":0,"cells_raw":0,"read":"whole","date_system":"1900"}

{"sheet":"Data","index":0,"n_rows":105,"n_cols":30,"rows_kept":105,"cut":false,"hidden":true,"merged":[]}
["lat","lon","lat","lon","sum_check","grid","NewGridNo","Price_INT","Price_COMB",null,null,null,null,null,null,null,null,null,null,null,"distance"]
[41.875,20.625,{"$f":"IF(AND(CMIMI!$B$15>(Data!A2-$U$2),CMIMI!$B$15<(Data!A2+$U$2)),1,0)","v":0},{"$f":"IF(AND(CMIMI!$C$15>(Data!B2-$U$2),CMIMI!$C$15<(Data!B2+$U$2)),1,0)","v":0},{"$f":"IF(C2+D2=2,1,0)","v":0},"41.875_20.625",103,84.000000000000014,66.5,null,null,null,null,null,null,null,null,null,null,null,{"$f":"(A4-A3)/2","v":6.25E-2}]
[41.875,20.75,{"$f":"IF(AND(CMIMI!$B$15>(Data!A3-$U$2),CMIMI!$B$15<(Data!A3+$U$2)),1,0)","v":0},{"$f":"IF(AND(CMIMI!$C$15>(Data!B3-$U$2),CMIMI!$C$15<(Data!B3+$U$2)),1,0)","v":0},{"$f":"IF(C3+D3=2,1,0)","v":0},"41.875_20.75",104,"",""]
[42,20.625,{"$f":"IF(AND(CMIMI!$B$15>(Data!A4-$U$2),CMIMI!$B$15<(Data!A4+$U$2)),1,0)","v":0},{"$f":"IF(AND(CMIMI!$C$15>(Data!B4-$U$2),CMIMI!$C$15<(Data!B4+$U$2)),1,0)","v":0},0,"42_20.625",101,84.000000000000014,66.5]
[42,20.75,{"$f":"IF(AND(CMIMI!$B$15>(Data!A5-$U$2),CMIMI!$B$15<(Data!A5+$U$2)),1,0)","v":0},{"$f":"IF(AND(CMIMI!$C$15>(Data!B5-$U$2),CMIMI!$C$15<(Data!B5+$U$2)),1,0)","v":0},0,"42_20.75",102,84.000000000000014,66.5]
[42.125,20.5,{"$f":"IF(AND(CMIMI!$B$15>(Data!A6-$U$2),CMIMI!$B$15<(Data!A6+$U$2)),1,0)","v":0},{"$f":"IF(AND(CMIMI!$C$15>(Data!B6-$U$2),CMIMI!$C$15<(Data!B6+$U$2)),1,0)","v":0},0,"42.125_20.5",93,"",""]
[42.125,20.625,{"$f":"IF(AND(CMIMI!$B$15>(Data!A7-$U$2),CMIMI!$B$15<(Data!A7+$U$2)),1,0)","v":0},{"$f":"IF(AND(CMIMI!$C$15>(Data!B7-$U$2),CMIMI!$C$15<(Data!B7+$U$2)),1,0)","v":0},0,"42.125_20.625",94,84.000000000000014,66.5,null,null,null,null,null,null,null,null,null,null,null,null,null,null,null,"Kultura","Produkti i sigurimit",null,"Teknologjia e prodhimit"]
[42.125,20.75,{"$f":"IF(AND(CMIMI!$B$15>(Data!A8-$U$2),CMIMI!$B$15<(Data!A8+$U$2)),1,0)","v":0},{"$f":"IF(AND(CMIMI!$C$15>(Data!B8-$U$2),CMIMI!$C$15<(Data!B8+$U$2)),1,0)","v":0},0,"42.125_20.75",95,84.000000000000014,66.5,null,null,null,null,null,null,null,null,null,null,null,null,null,null,null,"Mjedra","Produkti indeks per sigurimin e mjedres",null,"Intensive"]
[42.125,20.875,{"$f":"IF(AND(CMIMI!$B$15>(Data!A9-$U$2),CMIMI!$B$15<(Data!A9+$U$2)),1,0)","v":0},{"$f":"IF(AND(CMIMI!$C$15>(Data!B9-$U$2),CMIMI!$C$15<(Data!B9+$U$2)),1,0)","v":0},0,"42.125_20.875",96,84.000000000000014,66.5,null,null,null,null,null,null,null,null,null,null,null,null,null,null,null,"Speci","Produkti indeks per sigurimin e specit",null,"Gjysem-intensive"]
[42.125,21,{"$f":"IF(AND(CMIMI!$B$15>(Data!A10-$U$2),CMIMI!$B$15<(Data!A10+$U$2)),1,0)","v":0},{"$f":"IF(AND(CMIMI!$C$15>(Data!B10-$U$2),CMIMI!$C$15<(Data!B10+$U$2)),1,0)","v":0},0,"42.125_21",97,"","",null,null,null,null,null,null,null,null,null,null,null,null,null,null,null,"Vreshta","Produkti indeks per sigurimin e vreshtes"]
[42.125,21.125,{"$f":"IF(AND(CMIMI!$B$15>(Data!A11-$U$2),CMIMI!$B$15<(Data!A11+$U$2)),1,0)","v":0},{"$f":"IF(AND(CMIMI!$C$15>(Data!B11-$U$2),CMIMI!$C$15<(Data!B11+$U$2)),1,0)","v":0},0,"42.125_21.125",98,"","",null,null,null,null,null,null,null,null,null,null,null,null,null,null,null,"Kumbulla","Produkti indeks per sigurimin e kumbulles"]
[42.125,21.25,{"$f":"IF(AND(CMIMI!$B$15>(Data!A12-$U$2),CMIMI!$B$15<(Data!A12+$U$2)),1,0)","v":0},{"$f":"IF(AND(CMIMI!$C$15>(Data!B12-$U$2),CMIMI!$C$15<(Data!B12+$U$2)),1,0)","v":0},0,"42.125_21.25",99,430.44168209468398,340.76633165829145,null,null,null,null,null,null,null,null,null,null,null,null,null,null,null,"Molla","Produkti indeks per sigurimin e molles"]
[42.125,21.375,{"$f":"IF(AND(CMIMI!$B$15>(Data!A13-$U$2),CMIMI!$B$15<(Data!A13+$U$2)),1,0)","v":0},{"$f":"IF(AND(CMIMI!$C$15>(Data!B13-$U$2),CMIMI!$C$15<(Data!B13+$U$2)),1,0)","v":0},0,"42.125_21.375",100,438.73809838667023,347.33432788944725,null,null,null,null,null,null,null,null,null,null,null,null,null,null,null,"Dredheza","Produkti indeks per sigurimin e dredhezes"]
[42.25,20.375,{"$f":"IF(AND(CMIMI!$B$15>(Data!A14-$U$2),CMIMI!$B$15<(Data!A14+$U$2)),1,0)","v":0},{"$f":"IF(AND(CMIMI!$C$15>(Data!B14-$U$2),CMIMI!$C$15<(Data!B14+$U$2)),1,0)","v":0},0,"42.25_20.375",82,"",""]
[42.25,20.5,{"$f":"IF(AND(CMIMI!$B$15>(Data!A15-$U$2),CMIMI!$B$15<(Data!A15+$U$2)),1,0)","v":0},{"$f":"IF(AND(CMIMI!$C$15>(Data!B15-$U$2),CMIMI!$C$15<(Data!B15+$U$2)),1,0)","v":0},0,"42.25_20.5",83,376.08070626437552,297.73055912596396]
[42.25,20.625,{"$f":"IF(AND(CMIMI!$B$15>(Data!A16-$U$2),CMIMI!$B$15<(Data!A16+$U$2)),1,0)","v":0},{"$f":"IF(AND(CMIMI!$C$15>(Data!B16-$U$2),CMIMI!$C$15<(Data!B16+$U$2)),1,0)","v":0},0,"42.25_20.625",84,"",""]
[42.25,20.75,{"$f":"IF(AND(CMIMI!$B$15>(Data!A17-$U$2),CMIMI!$B$15<(Data!A17+$U$2)),1,0)","v":0},{"$f":"IF(AND(CMIMI!$C$15>(Data!B17-$U$2),CMIMI!$C$15<(Data!B17+$U$2)),1,0)","v":0},0,"42.25_20.75",85,191.6832174776564,151.74921383647799]
[42.25,20.875,{"$f":"IF(AND(CMIMI!$B$15>(Data!A18-$U$2),CMIMI!$B$15<(Data!A18+$U$2)),1,0)","v":0},{"$f":"IF(AND(CMIMI!$C$15>(Data!B18-$U$2),CMIMI!$C$15<(Data!B18+$U$2)),1,0)","v":0},0,"42.25_20.875",86,84.000000000000014,66.5]
[42.25,21,{"$f":"IF(AND(CMIMI!$B$15>(Data!A19-$U$2),CMIMI!$B$15<(Data!A19+$U$2)),1,0)","v":0},{"$f":"IF(AND(CMIMI!$C$15>(Data!B19-$U$2),CMIMI!$C$15<(Data!B19+$U$2)),1,0)","v":0},0,"42.25_21",87,84.000000000000014,66.5,null,null,null,null,null,null,null,null,null,null,null,null,null,null,null,null,null,"Grid. No","PRICE"]
[42.25,21.125,{"$f":"IF(AND(CMIMI!$B$15>(Data!A20-$U$2),CMIMI!$B$15<(Data!A20+$U$2)),1,0)","v":0},{"$f":"IF(AND(CMIMI!$C$15>(Data!B20-$U$2),CMIMI!$C$15<(Data!B20+$U$2)),1,0)","v":0},0,"42.25_21.125",88,84.000000000000014,66.5,null,null,null,null,null,null,null,null,null,null,null,null,null,null,null,null,null,{"$f":"IFERROR(VLOOKUP(1,E2:I105,3,FALSE), \"\")","v":""},{"$f":"VLOOKUP(AA20,$G$2:$H$105,2,FALSE)","v":{"$error":"#N/A"}},"Int",{"$f":"IFERROR(AB20*CMIMI!A15,\"nuk ofrohet sigurim bujqesor\")","v":"nuk ofrohet sigurim bujqesor"}]
[42.25,21.25,{"$f":"IF(AND(CMIMI!$B$15>(Data!A21-$U$2),CMIMI!$B$15<(Data!A21+$U$2)),1,0)","v":0},{"$f":"IF(AND(CMIMI!$C$15>(Data!B21-$U$2),CMIMI!$C$15<(Data!B21+$U$2)),1,0)","v":0},0,"42.25_21.25",89,163.02774921048081,129.06363479163062,null,null,null,null,null,null,null,null,null,null,null,null,null,null,null,null,null,null,{"$f":"VLOOKUP(AA20,G2:I105,3,FALSE)","v":{"$error":"#N/A"}},"Comb",{"$f":"IFERROR(AB21*CMIMI!A15,\"nuk ofrohet sigurim bujqesor\")","v":"nuk ofrohet sigurim bujqesor"}]
[42.25,21.375,{"$f":"IF(AND(CMIMI!$B$15>(Data!A22-$U$2),CMIMI!$B$15<(Data!A22+$U$2)),1,0)","v":0},{"$f":"IF(AND(CMIMI!$C$15>(Data!B22-$U$2),CMIMI!$C$15<(Data!B22+$U$2)),1,0)","v":0},0,"42.25_21.375",90,152.19390900912742,120.48684463222587]
[42.25,21.5,{"$f":"IF(AND(CMIMI!$B$15>(Data!A23-$U$2),CMIMI!$B$15<(Data!A23+$U$2)),1,0)","v":0},{"$f":"IF(AND(CMIMI!$C$15>(Data!B23-$U$2),CMIMI!$C$15<(Data!B23+$U$2)),1,0)","v":0},0,"42.25_21.5",91,"","",null,null,null,null,null,null,null,null,null,null,null,null,null,null,null,null,null,null,{"$f":"CMIMI!B19","v":0},"Ngar","Int"]
[42.25,21.625,{"$f":"IF(AND(CMIMI!$B$15>(Data!A24-$U$2),CMIMI!$B$15<(Data!A24+$U$2)),1,0)","v":0},{"$f":"IF(AND(CMIMI!$C$15>(Data!B24-$U$2),CMIMI!$C$15<(Data!B24+$U$2)),1,0)","v":0},0,"42.25_21.625",92,"","",null,null,null,null,null,null,null,null,null,null,null,null,null,null,"Int","Pr+ngar",{"$f":"(AB20*AB23)+AB20","v":{"$error":"#N/A"}},null,null,"Ngar","Comb"]
[42.375,20.25,{"$f":"IF(AND(CMIMI!$B$15>(Data!A25-$U$2),CMIMI!$B$15<(Data!A25+$U$2)),1,0)","v":0},{"$f":"IF(AND(CMIMI!$C$15>(Data!B25-$U$2),CMIMI!$C$15<(Data!B25+$U$2)),1,0)","v":0},0,"42.375_20.25",70,331.6516620498615,262.5575657894737,null,null,null,null,null,null,null,null,null,null,null,null,null,null,"Comb",null,{"$f":"(AB21*AB23)+AB21","v":{"$error":"#N/A"}}]
[42.375,20.375,{"$f":"IF(AND(CMIMI!$B$15>(Data!A26-$U$2),CMIMI!$B$15<(Data!A26+$U$2)),1,0)","v":0},{"$f":"IF(AND(CMIMI!$C$15>(Data!B26-$U$2),CMIMI!$C$15<(Data!B26+$U$2)),1,0)","v":0},0,"42.375_20.375",71,497.30019493177389,393.69598765432102,null,null,null,null,null,null,null,null,null,null,null,null,null,null,null,null,null,null,{"$f":"CMIMI!C19","v":0},"TVSH","Int"]
[42.375,20.5,{"$f":"IF(AND(CMIMI!$B$15>(Data!A27-$U$2),CMIMI!$B$15<(Data!A27+$U$2)),1,0)","v":0},{"$f":"IF(AND(CMIMI!$C$15>(Data!B27-$U$2),CMIMI!$C$15<(Data!B27+$U$2)),1,0)","v":0},0,"42.375_20.5",72,"","",null,null,null,null,null,null,null,null,null,null,null,null,null,null,null,null,null,null,null,"TVSH","Comb"]
[42.375,20.625,{"$f":"IF(AND(CMIMI!$B$15>(Data!A28-$U$2),CMIMI!$B$15<(Data!A28+$U$2)),1,0)","v":0},{"$f":"IF(AND(CMIMI!$C$15>(Data!B28-$U$2),CMIMI!$C$15<(Data!B28+$U$2)),1,0)","v":0},0,"42.375_20.625",73,"",""]
[42.375,20.75,{"$f":"IF(AND(CMIMI!$B$15>(Data!A29-$U$2),CMIMI!$B$15<(Data!A29+$U$2)),1,0)","v":0},{"$f":"IF(AND(CMIMI!$C$15>(Data!B29-$U$2),CMIMI!$C$15<(Data!B29+$U$2)),1,0)","v":0},0,"42.375_20.75",74,"",""]
[42.375,20.875,{"$f":"IF(AND(CMIMI!$B$15>(Data!A30-$U$2),CMIMI!$B$15<(Data!A30+$U$2)),1,0)","v":0},{"$f":"IF(AND(CMIMI!$C$15>(Data!B30-$U$2),CMIMI!$C$15<(Data!B30+$U$2)),1,0)","v":0},0,"42.375_20.875",75,349.83231811648756,276.95058517555265,null,null,null,null,null,null,null,null,null,null,null,null,null,null,null,null,null,null,{"$f":"(Z24*AB26)+Z24","v":{"$error":"#N/A"}},"Final pr","Int"]
[42.375,21,{"$f":"IF(AND(CMIMI!$B$15>(Data!A31-$U$2),CMIMI!$B$15<(Data!A31+$U$2)),1,0)","v":0},{"$f":"IF(AND(CMIMI!$C$15>(Data!B31-$U$2),CMIMI!$C$15<(Data!B31+$U$2)),1,0)","v":0},0,"42.375_21",76,152.19390900912742,120.48684463222587,null,null,null,null,null,null,null,null,null,null,null,null,null,null,null,null,null,null,{"$f":"(Z25*AB26)+Z25","v":{"$error":"#N/A"}},"Final pr","Comb"]
[42.375,21.125,{"$f":"IF(AND(CMIMI!$B$15>(Data!A32-$U$2),CMIMI!$B$15<(Data!A32+$U$2)),1,0)","v":0},{"$f":"IF(AND(CMIMI!$C$15>(Data!B32-$U$2),CMIMI!$C$15<(Data!B32+$U$2)),1,0)","v":0},0,"42.375_21.125",77,254.8747159614322,201.77581680280051]
[42.375,21.25,{"$f":"IF(AND(CMIMI!$B$15>(Data!A33-$U$2),CMIMI!$B$15<(Data!A33+$U$2)),1,0)","v":0},{"$f":"IF(AND(CMIMI!$C$15>(Data!B33-$U$2),CMIMI!$C$15<(Data!B33+$U$2)),1,0)","v":0},0,"42.375_21.25",78,396.95378853741727,314.25508259212205]
[42.375,21.375,{"$f":"IF(AND(CMIMI!$B$15>(Data!A34-$U$2),CMIMI!$B$15<(Data!A34+$U$2)),1,0)","v":0},{"$f":"IF(AND(CMIMI!$C$15>(Data!B34-$U$2),CMIMI!$C$15<(Data!B34+$U$2)),1,0)","v":0},0,"42.375_21.375",79,456.35011441647606,361.27717391304355,null,null,null,null,null,null,null,null,null,null,null,null,null,null,null,null,null,null,{"$f":"IFERROR(AB30*CMIMI!A15,\"nuk ofrohet sigurim bujqesor\")","v":"nuk ofrohet sigurim bujqesor"},"FINAL","Int"]
[42.375,21.5,{"$f":"IF(AND(CMIMI!$B$15>(Data!A35-$U$2),CMIMI!$B$15<(Data!A35+$U$2)),1,0)","v":0},{"$f":"IF(AND(CMIMI!$C$15>(Data!B35-$U$2),CMIMI!$C$15<(Data!B35+$U$2)),1,0)","v":0},0,"42.375_21.5",80,388.22723582735756,307.34656169665806,null,null,null,null,null,null,null,null,null,null,null,null,null,null,null,null,null,null,{"$f":"IFERROR(AB31*CMIMI!A15,\"nuk ofrohet sigurim bujqesor\")","v":"nuk ofrohet sigurim bujqesor"},"FINAL","comb"]
[42.375,21.625,{"$f":"IF(AND(CMIMI!$B$15>(Data!A36-$U$2),CMIMI!$B$15<(Data!A36+$U$2)),1,0)","v":0},{"$f":"IF(AND(CMIMI!$C$15>(Data!B36-$U$2),CMIMI!$C$15<(Data!B36+$U$2)),1,0)","v":0},0,"42.375_21.625",81,"",""]
[42.5,20.125,{"$f":"IF(AND(CMIMI!$B$15>(Data!A37-$U$2),CMIMI!$B$15<(Data!A37+$U$2)),1,0)","v":0},{"$f":"IF(AND(CMIMI!$C$15>(Data!B37-$U$2),CMIMI!$C$15<(Data!B37+$U$2)),1,0)","v":0},0,"42.5_20.125",56,"",""]
[42.5,20.25,{"$f":"IF(AND(CMIMI!$B$15>(Data!A38-$U$2),CMIMI!$B$15<(Data!A38+$U$2)),1,0)","v":0},{"$f":"IF(AND(CMIMI!$C$15>(Data!B38-$U$2),CMIMI!$C$15<(Data!B38+$U$2)),1,0)","v":0},0,"42.5_20.25",57,84.000000000000014,66.5]
[42.5,20.375,{"$f":"IF(AND(CMIMI!$B$15>(Data!A39-$U$2),CMIMI!$B$15<(Data!A39+$U$2)),1,0)","v":0},{"$f":"IF(AND(CMIMI!$C$15>(Data!B39-$U$2),CMIMI!$C$15<(Data!B39+$U$2)),1,0)","v":0},0,"42.5_20.375",58,415.66742459707081,329.07004447268105]
[42.5,20.5,{"$f":"IF(AND(CMIMI!$B$15>(Data!A40-$U$2),CMIMI!$B$15<(Data!A40+$U$2)),1,0)","v":0},{"$f":"IF(AND(CMIMI!$C$15>(Data!B40-$U$2),CMIMI!$C$15<(Data!B40+$U$2)),1,0)","v":0},0,"42.5_20.5",59,"",""]
[42.5,20.625,{"$f":"IF(AND(CMIMI!$B$15>(Data!A41-$U$2),CMIMI!$B$15<(Data!A41+$U$2)),1,0)","v":0},{"$f":"IF(AND(CMIMI!$C$15>(Data!B41-$U$2),CMIMI!$C$15<(Data!B41+$U$2)),1,0)","v":0},0,"42.5_20.625",60,556.33825417201547,440.4344512195122]
[42.5,20.75,{"$f":"IF(AND(CMIMI!$B$15>(Data!A42-$U$2),CMIMI!$B$15<(Data!A42+$U$2)),1,0)","v":0},{"$f":"IF(AND(CMIMI!$C$15>(Data!B42-$U$2),CMIMI!$C$15<(Data!B42+$U$2)),1,0)","v":0},0,"42.5_20.75",61,344.94558893983987,273.08192457737323]
[42.5,20.875,{"$f":"IF(AND(CMIMI!$B$15>(Data!A43-$U$2),CMIMI!$B$15<(Data!A43+$U$2)),1,0)","v":0},{"$f":"IF(AND(CMIMI!$C$15>(Data!B43-$U$2),CMIMI!$C$15<(Data!B43+$U$2)),1,0)","v":0},0,"42.5_20.875",62,"",""]
[42.5,21,{"$f":"IF(AND(CMIMI!$B$15>(Data!A44-$U$2),CMIMI!$B$15<(Data!A44+$U$2)),1,0)","v":0},{"$f":"IF(AND(CMIMI!$C$15>(Data!B44-$U$2),CMIMI!$C$15<(Data!B44+$U$2)),1,0)","v":0},0,"42.5_21",63,"",""]
[42.5,21.125,{"$f":"IF(AND(CMIMI!$B$15>(Data!A45-$U$2),CMIMI!$B$15<(Data!A45+$U$2)),1,0)","v":0},{"$f":"IF(AND(CMIMI!$C$15>(Data!B45-$U$2),CMIMI!$C$15<(Data!B45+$U$2)),1,0)","v":0},0,"42.5_21.125",64,392.17882699123925,310.47490470139775]
[42.5,21.25,{"$f":"IF(AND(CMIMI!$B$15>(Data!A46-$U$2),CMIMI!$B$15<(Data!A46+$U$2)),1,0)","v":0},{"$f":"IF(AND(CMIMI!$C$15>(Data!B46-$U$2),CMIMI!$C$15<(Data!B46+$U$2)),1,0)","v":0},0,"42.5_21.25",65,392.17882699123925,310.47490470139775]
[42.5,21.375,{"$f":"IF(AND(CMIMI!$B$15>(Data!A47-$U$2),CMIMI!$B$15<(Data!A47+$U$2)),1,0)","v":0},{"$f":"IF(AND(CMIMI!$C$15>(Data!B47-$U$2),CMIMI!$C$15<(Data!B47+$U$2)),1,0)","v":0},0,"42.5_21.375",66,372.49357326478156,294.89074550128538]
[42.5,21.5,{"$f":"IF(AND(CMIMI!$B$15>(Data!A48-$U$2),CMIMI!$B$15<(Data!A48+$U$2)),1,0)","v":0},{"$f":"IF(AND(CMIMI!$C$15>(Data!B48-$U$2),CMIMI!$C$15<(Data!B48+$U$2)),1,0)","v":0},0,"42.5_21.5",67,372.49357326478156,294.89074550128538]
[42.5,21.625,{"$f":"IF(AND(CMIMI!$B$15>(Data!A49-$U$2),CMIMI!$B$15<(Data!A49+$U$2)),1,0)","v":0},{"$f":"IF(AND(CMIMI!$C$15>(Data!B49-$U$2),CMIMI!$C$15<(Data!B49+$U$2)),1,0)","v":0},0,"42.5_21.625",68,388.22723582735756,307.34656169665806]
[42.5,21.75,{"$f":"IF(AND(CMIMI!$B$15>(Data!A50-$U$2),CMIMI!$B$15<(Data!A50+$U$2)),1,0)","v":0},{"$f":"IF(AND(CMIMI!$C$15>(Data!B50-$U$2),CMIMI!$C$15<(Data!B50+$U$2)),1,0)","v":0},0,"42.5_21.75",69,388.22723582735756,307.34656169665806]
[42.625,20,{"$f":"IF(AND(CMIMI!$B$15>(Data!A51-$U$2),CMIMI!$B$15<(Data!A51+$U$2)),1,0)","v":0},{"$f":"IF(AND(CMIMI!$C$15>(Data!B51-$U$2),CMIMI!$C$15<(Data!B51+$U$2)),1,0)","v":0},0,"42.625_20",41,"",""]
[42.625,20.125,{"$f":"IF(AND(CMIMI!$B$15>(Data!A52-$U$2),CMIMI!$B$15<(Data!A52+$U$2)),1,0)","v":0},{"$f":"IF(AND(CMIMI!$C$15>(Data!B52-$U$2),CMIMI!$C$15<(Data!B52+$U$2)),1,0)","v":0},0,"42.625_20.125",42,"",""]
[42.625,20.25,{"$f":"IF(AND(CMIMI!$B$15>(Data!A53-$U$2),CMIMI!$B$15<(Data!A53+$U$2)),1,0)","v":0},{"$f":"IF(AND(CMIMI!$C$15>(Data!B53-$U$2),CMIMI!$C$15<(Data!B53+$U$2)),1,0)","v":0},0,"42.625_20.25",43,"",""]
[42.625,20.375,{"$f":"IF(AND(CMIMI!$B$15>(Data!A54-$U$2),CMIMI!$B$15<(Data!A54+$U$2)),1,0)","v":0},{"$f":"IF(AND(CMIMI!$C$15>(Data!B54-$U$2),CMIMI!$C$15<(Data!B54+$U$2)),1,0)","v":0},0,"42.625_20.375",44,166.2768368266334,131.6358291544181]
[42.625,20.5,{"$f":"IF(AND(CMIMI!$B$15>(Data!A55-$U$2),CMIMI!$B$15<(Data!A55+$U$2)),1,0)","v":0},{"$f":"IF(AND(CMIMI!$C$15>(Data!B55-$U$2),CMIMI!$C$15<(Data!B55+$U$2)),1,0)","v":0},0,"42.625_20.5",45,"",""]
[42.625,20.625,{"$f":"IF(AND(CMIMI!$B$15>(Data!A56-$U$2),CMIMI!$B$15<(Data!A56+$U$2)),1,0)","v":0},{"$f":"IF(AND(CMIMI!$C$15>(Data!B56-$U$2),CMIMI!$C$15<(Data!B56+$U$2)),1,0)","v":0},0,"42.625_20.625",46,"",""]
[42.625,20.75,{"$f":"IF(AND(CMIMI!$B$15>(Data!A57-$U$2),CMIMI!$B$15<(Data!A57+$U$2)),1,0)","v":0},{"$f":"IF(AND(CMIMI!$C$15>(Data!B57-$U$2),CMIMI!$C$15<(Data!B57+$U$2)),1,0)","v":0},0,"42.625_20.75",47,344.94558893983987,273.08192457737323]
[42.625,20.875,{"$f":"IF(AND(CMIMI!$B$15>(Data!A58-$U$2),CMIMI!$B$15<(Data!A58+$U$2)),1,0)","v":0},{"$f":"IF(AND(CMIMI!$C$15>(Data!B58-$U$2),CMIMI!$C$15<(Data!B58+$U$2)),1,0)","v":0},0,"42.625_20.875",48,336.66897506925216,266.52960526315798]
[42.625,21,{"$f":"IF(AND(CMIMI!$B$15>(Data!A59-$U$2),CMIMI!$B$15<(Data!A59+$U$2)),1,0)","v":0},{"$f":"IF(AND(CMIMI!$C$15>(Data!B59-$U$2),CMIMI!$C$15<(Data!B59+$U$2)),1,0)","v":0},0,"42.625_21",49,460.26315789473682,364.375]
[42.625,21.125,{"$f":"IF(AND(CMIMI!$B$15>(Data!A60-$U$2),CMIMI!$B$15<(Data!A60+$U$2)),1,0)","v":0},{"$f":"IF(AND(CMIMI!$C$15>(Data!B60-$U$2),CMIMI!$C$15<(Data!B60+$U$2)),1,0)","v":0},0,"42.625_21.125",50,336.66897506925216,266.52960526315798]
[42.625,21.25,{"$f":"IF(AND(CMIMI!$B$15>(Data!A61-$U$2),CMIMI!$B$15<(Data!A61+$U$2)),1,0)","v":0},{"$f":"IF(AND(CMIMI!$C$15>(Data!B61-$U$2),CMIMI!$C$15<(Data!B61+$U$2)),1,0)","v":0},0,"42.625_21.25",51,288.17900960170698,228.1417159346847]
[42.625,21.375,{"$f":"IF(AND(CMIMI!$B$15>(Data!A62-$U$2),CMIMI!$B$15<(Data!A62+$U$2)),1,0)","v":0},{"$f":"IF(AND(CMIMI!$C$15>(Data!B62-$U$2),CMIMI!$C$15<(Data!B62+$U$2)),1,0)","v":0},0,"42.625_21.375",52,152.19390900912742,120.48684463222587]
[42.625,21.5,{"$f":"IF(AND(CMIMI!$B$15>(Data!A63-$U$2),CMIMI!$B$15<(Data!A63+$U$2)),1,0)","v":0},{"$f":"IF(AND(CMIMI!$C$15>(Data!B63-$U$2),CMIMI!$C$15<(Data!B63+$U$2)),1,0)","v":0},0,"42.625_21.5",53,207.67130089374379,164.40644654088052]
[42.625,21.625,{"$f":"IF(AND(CMIMI!$B$15>(Data!A64-$U$2),CMIMI!$B$15<(Data!A64+$U$2)),1,0)","v":0},{"$f":"IF(AND(CMIMI!$C$15>(Data!B64-$U$2),CMIMI!$C$15<(Data!B64+$U$2)),1,0)","v":0},0,"42.625_21.625",54,207.67130089374379,164.40644654088052]
[42.625,21.75,{"$f":"IF(AND(CMIMI!$B$15>(Data!A65-$U$2),CMIMI!$B$15<(Data!A65+$U$2)),1,0)","v":0},{"$f":"IF(AND(CMIMI!$C$15>(Data!B65-$U$2),CMIMI!$C$15<(Data!B65+$U$2)),1,0)","v":0},0,"42.625_21.75",55,152.19390900912742,120.48684463222587]
[42.75,20,{"$f":"IF(AND(CMIMI!$B$15>(Data!A66-$U$2),CMIMI!$B$15<(Data!A66+$U$2)),1,0)","v":0},{"$f":"IF(AND(CMIMI!$C$15>(Data!B66-$U$2),CMIMI!$C$15<(Data!B66+$U$2)),1,0)","v":0},0,"42.75_20",26,"",""]
[42.75,20.125,{"$f":"IF(AND(CMIMI!$B$15>(Data!A67-$U$2),CMIMI!$B$15<(Data!A67+$U$2)),1,0)","v":0},{"$f":"IF(AND(CMIMI!$C$15>(Data!B67-$U$2),CMIMI!$C$15<(Data!B67+$U$2)),1,0)","v":0},{"$f":"IF(C67+D67=2,1,0)","v":0},"42.75_20.125",27,"",""]
[42.75,20.25,{"$f":"IF(AND(CMIMI!$B$15>(Data!A68-$U$2),CMIMI!$B$15<(Data!A68+$U$2)),1,0)","v":0},{"$f":"IF(AND(CMIMI!$C$15>(Data!B68-$U$2),CMIMI!$C$15<(Data!B68+$U$2)),1,0)","v":0},0,"42.75_20.25",28,"",""]
[42.75,20.375,{"$f":"IF(AND(CMIMI!$B$15>(Data!A69-$U$2),CMIMI!$B$15<(Data!A69+$U$2)),1,0)","v":0},{"$f":"IF(AND(CMIMI!$C$15>(Data!B69-$U$2),CMIMI!$C$15<(Data!B69+$U$2)),1,0)","v":0},0,"42.75_20.375",29,84.000000000000014,66.5]
[42.75,20.5,{"$f":"IF(AND(CMIMI!$B$15>(Data!A70-$U$2),CMIMI!$B$15<(Data!A70+$U$2)),1,0)","v":0},{"$f":"IF(AND(CMIMI!$C$15>(Data!B70-$U$2),CMIMI!$C$15<(Data!B70+$U$2)),1,0)","v":0},0,"42.75_20.5",30,84.000000000000014,66.5]
[42.75,20.625,{"$f":"IF(AND(CMIMI!$B$15>(Data!A71-$U$2),CMIMI!$B$15<(Data!A71+$U$2)),1,0)","v":0},{"$f":"IF(AND(CMIMI!$C$15>(Data!B71-$U$2),CMIMI!$C$15<(Data!B71+$U$2)),1,0)","v":0},0,"42.75_20.625",31,207.67130089374379,164.40644654088052]
[42.75,20.75,{"$f":"IF(AND(CMIMI!$B$15>(Data!A72-$U$2),CMIMI!$B$15<(Data!A72+$U$2)),1,0)","v":0},{"$f":"IF(AND(CMIMI!$C$15>(Data!B72-$U$2),CMIMI!$C$15<(Data!B72+$U$2)),1,0)","v":0},0,"42.75_20.75",32,307.8861462688277,243.74319912948857]
[42.75,20.875,{"$f":"IF(AND(CMIMI!$B$15>(Data!A73-$U$2),CMIMI!$B$15<(Data!A73+$U$2)),1,0)","v":0},{"$f":"IF(AND(CMIMI!$C$15>(Data!B73-$U$2),CMIMI!$C$15<(Data!B73+$U$2)),1,0)","v":0},0,"42.75_20.875",33,307.8861462688277,243.74319912948857]
[42.75,21,{"$f":"IF(AND(CMIMI!$B$15>(Data!A74-$U$2),CMIMI!$B$15<(Data!A74+$U$2)),1,0)","v":0},{"$f":"IF(AND(CMIMI!$C$15>(Data!B74-$U$2),CMIMI!$C$15<(Data!B74+$U$2)),1,0)","v":0},0,"42.75_21",34,384.17839263969699,304.14122750642679]
[42.75,21.125,{"$f":"IF(AND(CMIMI!$B$15>(Data!A75-$U$2),CMIMI!$B$15<(Data!A75+$U$2)),1,0)","v":0},{"$f":"IF(AND(CMIMI!$C$15>(Data!B75-$U$2),CMIMI!$C$15<(Data!B75+$U$2)),1,0)","v":0},0,"42.75_21.125",35,307.8861462688277,243.74319912948857]
[42.75,21.25,{"$f":"IF(AND(CMIMI!$B$15>(Data!A76-$U$2),CMIMI!$B$15<(Data!A76+$U$2)),1,0)","v":0},{"$f":"IF(AND(CMIMI!$C$15>(Data!B76-$U$2),CMIMI!$C$15<(Data!B76+$U$2)),1,0)","v":0},0,"42.75_21.25",36,288.17900960170698,228.1417159346847]
[42.75,21.375,{"$f":"IF(AND(CMIMI!$B$15>(Data!A77-$U$2),CMIMI!$B$15<(Data!A77+$U$2)),1,0)","v":0},{"$f":"IF(AND(CMIMI!$C$15>(Data!B77-$U$2),CMIMI!$C$15<(Data!B77+$U$2)),1,0)","v":0},0,"42.75_21.375",37,152.19390900912742,120.48684463222587]
[42.75,21.5,{"$f":"IF(AND(CMIMI!$B$15>(Data!A78-$U$2),CMIMI!$B$15<(Data!A78+$U$2)),1,0)","v":0},{"$f":"IF(AND(CMIMI!$C$15>(Data!B78-$U$2),CMIMI!$C$15<(Data!B78+$U$2)),1,0)","v":0},0,"42.75_21.5",38,207.67130089374379,164.40644654088052]
[42.75,21.625,{"$f":"IF(AND(CMIMI!$B$15>(Data!A79-$U$2),CMIMI!$B$15<(Data!A79+$U$2)),1,0)","v":0},{"$f":"IF(AND(CMIMI!$C$15>(Data!B79-$U$2),CMIMI!$C$15<(Data!B79+$U$2)),1,0)","v":0},0,"42.75_21.625",39,207.67130089374379,164.40644654088052]
[42.75,21.75,{"$f":"IF(AND(CMIMI!$B$15>(Data!A80-$U$2),CMIMI!$B$15<(Data!A80+$U$2)),1,0)","v":0},{"$f":"IF(AND(CMIMI!$C$15>(Data!B80-$U$2),CMIMI!$C$15<(Data!B80+$U$2)),1,0)","v":0},0,"42.75_21.75",40,152.19390900912742,120.48684463222587]
[42.875,20.25,{"$f":"IF(AND(CMIMI!$B$15>(Data!A81-$U$2),CMIMI!$B$15<(Data!A81+$U$2)),1,0)","v":0},{"$f":"IF(AND(CMIMI!$C$15>(Data!B81-$U$2),CMIMI!$C$15<(Data!B81+$U$2)),1,0)","v":0},0,"42.875_20.25",16,"",""]
[42.875,20.375,{"$f":"IF(AND(CMIMI!$B$15>(Data!A82-$U$2),CMIMI!$B$15<(Data!A82+$U$2)),1,0)","v":0},{"$f":"IF(AND(CMIMI!$C$15>(Data!B82-$U$2),CMIMI!$C$15<(Data!B82+$U$2)),1,0)","v":0},0,"42.875_20.375",17,"",""]
[42.875,20.5,{"$f":"IF(AND(CMIMI!$B$15>(Data!A83-$U$2),CMIMI!$B$15<(Data!A83+$U$2)),1,0)","v":0},{"$f":"IF(AND(CMIMI!$C$15>(Data!B83-$U$2),CMIMI!$C$15<(Data!B83+$U$2)),1,0)","v":0},0,"42.875_20.5",18,"",""]
[42.875,20.625,{"$f":"IF(AND(CMIMI!$B$15>(Data!A84-$U$2),CMIMI!$B$15<(Data!A84+$U$2)),1,0)","v":0},{"$f":"IF(AND(CMIMI!$C$15>(Data!B84-$U$2),CMIMI!$C$15<(Data!B84+$U$2)),1,0)","v":0},0,"42.875_20.625",19,84.000000000000014,66.5]
[42.875,20.75,{"$f":"IF(AND(CMIMI!$B$15>(Data!A85-$U$2),CMIMI!$B$15<(Data!A85+$U$2)),1,0)","v":0},{"$f":"IF(AND(CMIMI!$C$15>(Data!B85-$U$2),CMIMI!$C$15<(Data!B85+$U$2)),1,0)","v":0},0,"42.875_20.75",20,197.28773584905662,156.18612421383648]
[42.875,20.875,{"$f":"IF(AND(CMIMI!$B$15>(Data!A86-$U$2),CMIMI!$B$15<(Data!A86+$U$2)),1,0)","v":0},{"$f":"IF(AND(CMIMI!$C$15>(Data!B86-$U$2),CMIMI!$C$15<(Data!B86+$U$2)),1,0)","v":0},0,"42.875_20.875",21,288.17900960170698,228.1417159346847]
[42.875,21,{"$f":"IF(AND(CMIMI!$B$15>(Data!A87-$U$2),CMIMI!$B$15<(Data!A87+$U$2)),1,0)","v":0},{"$f":"IF(AND(CMIMI!$C$15>(Data!B87-$U$2),CMIMI!$C$15<(Data!B87+$U$2)),1,0)","v":0},0,"42.875_21",22,207.67130089374379,164.40644654088052]
[42.875,21.125,{"$f":"IF(AND(CMIMI!$B$15>(Data!A88-$U$2),CMIMI!$B$15<(Data!A88+$U$2)),1,0)","v":0},{"$f":"IF(AND(CMIMI!$C$15>(Data!B88-$U$2),CMIMI!$C$15<(Data!B88+$U$2)),1,0)","v":0},0,"42.875_21.125",23,288.17900960170698,228.1417159346847]
[42.875,21.25,{"$f":"IF(AND(CMIMI!$B$15>(Data!A89-$U$2),CMIMI!$B$15<(Data!A89+$U$2)),1,0)","v":0},{"$f":"IF(AND(CMIMI!$C$15>(Data!B89-$U$2),CMIMI!$C$15<(Data!B89+$U$2)),1,0)","v":0},0,"42.875_21.25",24,278.88291251778094,220.78230574324326]
[42.875,21.375,{"$f":"IF(AND(CMIMI!$B$15>(Data!A90-$U$2),CMIMI!$B$15<(Data!A90+$U$2)),1,0)","v":0},{"$f":"IF(AND(CMIMI!$C$15>(Data!B90-$U$2),CMIMI!$C$15<(Data!B90+$U$2)),1,0)","v":0},0,"42.875_21.375",25,"",""]
[43,20.5,{"$f":"IF(AND(CMIMI!$B$15>(Data!A91-$U$2),CMIMI!$B$15<(Data!A91+$U$2)),1,0)","v":0},{"$f":"IF(AND(CMIMI!$C$15>(Data!B91-$U$2),CMIMI!$C$15<(Data!B91+$U$2)),1,0)","v":0},0,"43_20.5",9,"",""]
[43,20.625,{"$f":"IF(AND(CMIMI!$B$15>(Data!A92-$U$2),CMIMI!$B$15<(Data!A92+$U$2)),1,0)","v":0},{"$f":"IF(AND(CMIMI!$C$15>(Data!B92-$U$2),CMIMI!$C$15<(Data!B92+$U$2)),1,0)","v":0},0,"43_20.625",10,84.000000000000014,66.5]
[43,20.75,{"$f":"IF(AND(CMIMI!$B$15>(Data!A93-$U$2),CMIMI!$B$15<(Data!A93+$U$2)),1,0)","v":0},{"$f":"IF(AND(CMIMI!$C$15>(Data!B93-$U$2),CMIMI!$C$15<(Data!B93+$U$2)),1,0)","v":0},0,"43_20.75",11,84.000000000000014,66.5]
[43,20.875,{"$f":"IF(AND(CMIMI!$B$15>(Data!A94-$U$2),CMIMI!$B$15<(Data!A94+$U$2)),1,0)","v":0},{"$f":"IF(AND(CMIMI!$C$15>(Data!B94-$U$2),CMIMI!$C$15<(Data!B94+$U$2)),1,0)","v":0},0,"43_20.875",12,84.000000000000014,66.5]
[43,21,{"$f":"IF(AND(CMIMI!$B$15>(Data!A95-$U$2),CMIMI!$B$15<(Data!A95+$U$2)),1,0)","v":0},{"$f":"IF(AND(CMIMI!$C$15>(Data!B95-$U$2),CMIMI!$C$15<(Data!B95+$U$2)),1,0)","v":0},0,"43_21",13,84.000000000000014,66.5]
[43,21.125,{"$f":"IF(AND(CMIMI!$B$15>(Data!A96-$U$2),CMIMI!$B$15<(Data!A96+$U$2)),1,0)","v":0},{"$f":"IF(AND(CMIMI!$C$15>(Data!B96-$U$2),CMIMI!$C$15<(Data!B96+$U$2)),1,0)","v":0},0,"43_21.125",14,84.000000000000014,66.5]
[43,21.25,{"$f":"IF(AND(CMIMI!$B$15>(Data!A97-$U$2),CMIMI!$B$15<(Data!A97+$U$2)),1,0)","v":0},{"$f":"IF(AND(CMIMI!$C$15>(Data!B97-$U$2),CMIMI!$C$15<(Data!B97+$U$2)),1,0)","v":0},0,"43_21.25",15,"",""]
[43.125,20.625,{"$f":"IF(AND(CMIMI!$B$15>(Data!A98-$U$2),CMIMI!$B$15<(Data!A98+$U$2)),1,0)","v":0},{"$f":"IF(AND(CMIMI!$C$15>(Data!B98-$U$2),CMIMI!$C$15<(Data!B98+$U$2)),1,0)","v":0},0,"43.125_20.625",4,"",""]
[43.125,20.75,{"$f":"IF(AND(CMIMI!$B$15>(Data!A99-$U$2),CMIMI!$B$15<(Data!A99+$U$2)),1,0)","v":0},{"$f":"IF(AND(CMIMI!$C$15>(Data!B99-$U$2),CMIMI!$C$15<(Data!B99+$U$2)),1,0)","v":0},0,"43.125_20.75",5,84.000000000000014,66.5]
[43.125,20.875,{"$f":"IF(AND(CMIMI!$B$15>(Data!A100-$U$2),CMIMI!$B$15<(Data!A100+$U$2)),1,0)","v":0},{"$f":"IF(AND(CMIMI!$C$15>(Data!B100-$U$2),CMIMI!$C$15<(Data!B100+$U$2)),1,0)","v":0},0,"43.125_20.875",6,84.000000000000014,66.5]
[43.125,21,{"$f":"IF(AND(CMIMI!$B$15>(Data!A101-$U$2),CMIMI!$B$15<(Data!A101+$U$2)),1,0)","v":0},{"$f":"IF(AND(CMIMI!$C$15>(Data!B101-$U$2),CMIMI!$C$15<(Data!B101+$U$2)),1,0)","v":0},0,"43.125_21",7,84.000000000000014,66.5]
[43.125,21.125,{"$f":"IF(AND(CMIMI!$B$15>(Data!A102-$U$2),CMIMI!$B$15<(Data!A102+$U$2)),1,0)","v":0},{"$f":"IF(AND(CMIMI!$C$15>(Data!B102-$U$2),CMIMI!$C$15<(Data!B102+$U$2)),1,0)","v":0},0,"43.125_21.125",8,"",""]
[43.25,20.625,{"$f":"IF(AND(CMIMI!$B$15>(Data!A103-$U$2),CMIMI!$B$15<(Data!A103+$U$2)),1,0)","v":0},{"$f":"IF(AND(CMIMI!$C$15>(Data!B103-$U$2),CMIMI!$C$15<(Data!B103+$U$2)),1,0)","v":0},0,"43.25_20.625",1,207.67130089374379,164.40644654088052]
[43.25,20.75,{"$f":"IF(AND(CMIMI!$B$15>(Data!A104-$U$2),CMIMI!$B$15<(Data!A104+$U$2)),1,0)","v":0},{"$f":"IF(AND(CMIMI!$C$15>(Data!B104-$U$2),CMIMI!$C$15<(Data!B104+$U$2)),1,0)","v":0},0,"43.25_20.75",2,"",""]
[43.25,20.875,{"$f":"IF(AND(CMIMI!$B$15>(Data!A105-$U$2),CMIMI!$B$15<(Data!A105+$U$2)),1,0)","v":0},{"$f":"IF(AND(CMIMI!$C$15>(Data!B105-$U$2),CMIMI!$C$15<(Data!B105+$U$2)),1,0)","v":0},0,"43.25_20.875",3,"",""]

{"sheet":"CMIMI","index":1,"n_rows":29,"n_cols":3,"rows_kept":29,"cut":false,"hidden":false,"merged":[[23,1,23,2],[26,1,26,2],[12,1,12,2],[11,1,11,2],[9,1,9,2]]}
[null,"Udhezimet e perdorimit"]
[1,"Shenoni siperfaqen ne ha tek pjesa e destinuar me ngjyre te gjelbert (Nen Kolonon Nr. 1)"]
[2,"Shenoni koordinatat e parceles, separi gjeresia gjeografike, pastaj gjatesia gjeografike (Nen Kolonon Nr. 2)"]
[3,"Shenoni vleren e perqindjes se ngarkeses per kompanine tuaj te sigurimit"]
[4,"Shenoni vleren e perqindjes se Tatimit mbi Vleren e Shtuar (TVSH)"]
[5,"Klikoni butonin \"Kalkulo\""]
[6,"Printoni dokumentin me cmime ne formatin e shtrire \"Landscape\", nese ju nevojitet si dokument i printuar. "]
[7,"Ne fund, klikoni butonin \"Pastro\". "]
[]
[null,"MJEDRA"]
[]
[1,2]
[null,"Koordinatat"]
["Siperfaqen ne ha","Gjeresia gjeografike (Latitude)","Gjatesia gjeografike (Longitude)"]
[]
[]
[null,3,4]
[null,"Ngarkesa (%)","TVSH (%)"]
[]
[]
[]
[]
[]
["Nr. I GRIDIT","Teknologjia Intensive"]
[null,"Cmimi (I paster)","Cmimi+Ngarkesa+TVSH"]
[]
[null,"Teknologjia gjysem-intensive"]
[]
["Cdo pjese me ngjyre te gjelber, eshte e editueshme, mund te ndryshohet. "]