{"text_format":"1","workbook":"xlsx","n_sheets":2,"sheets":["Data","CMIMI"],"not_rendered":{"charts":0,"images":0,"macros":1,"external_links":0,"defined_names":0,"comments":1,"pivot_tables":0},"unopened":[],"bounds":{"document_bytes":16777216,"sheet_cells":100000,"rows_first":2000,"rows_last":500,"rows_between":2000,"halvings":0,"cell_chars":16384,"cell_head_chars":4096},"cells_cut":0,"cells_raw":0,"read":"whole","date_system":"1900"}

{"sheet":"Data","index":0,"n_rows":105,"n_cols":30,"rows_kept":105,"cut":false,"hidden":true,"merged":[]}
["lat","lon","lat","lon","sum_check","grid","NewGridNo","Price_INT","Price_COMB","Price_TRAD",null,null,null,null,null,null,null,null,null,null,"distance"]
[41.875,20.625,{"$f":"IF(AND(CMIMI!$B$15>(Data!A2-$U$2),CMIMI!$B$15<(Data!A2+$U$2)),1,0)","v":0},{"$f":"IF(AND(CMIMI!$C$15>(Data!B2-$U$2),CMIMI!$C$15<(Data!B2+$U$2)),1,0)","v":0},{"$f":"IF(C2+D2=2,1,0)","v":0},"41.875_20.625",103,"","","",null,null,null,null,null,null,null,null,null,null,{"$f":"(A4-A3)/2","v":6.25E-2}]
[41.875,20.75,{"$f":"IF(AND(CMIMI!$B$15>(Data!A3-$U$2),CMIMI!$B$15<(Data!A3+$U$2)),1,0)","v":0},{"$f":"IF(AND(CMIMI!$C$15>(Data!B3-$U$2),CMIMI!$C$15<(Data!B3+$U$2)),1,0)","v":0},{"$f":"IF(C3+D3=2,1,0)","v":0},"41.875_20.75",104,"","",""]
[42,20.625,{"$f":"IF(AND(CMIMI!$B$15>(Data!A4-$U$2),CMIMI!$B$15<(Data!A4+$U$2)),1,0)","v":0},{"$f":"IF(AND(CMIMI!$C$15>(Data!B4-$U$2),CMIMI!$C$15<(Data!B4+$U$2)),1,0)","v":0},0,"42_20.625",101,"","",""]
[42,20.75,{"$f":"IF(AND(CMIMI!$B$15>(Data!A5-$U$2),CMIMI!$B$15<(Data!A5+$U$2)),1,0)","v":0},{"$f":"IF(AND(CMIMI!$C$15>(Data!B5-$U$2),CMIMI!$C$15<(Data!B5+$U$2)),1,0)","v":0},0,"42_20.75",102,"","",""]
[42.125,20.5,{"$f":"IF(AND(CMIMI!$B$15>(Data!A6-$U$2),CMIMI!$B$15<(Data!A6+$U$2)),1,0)","v":0},{"$f":"IF(AND(CMIMI!$C$15>(Data!B6-$U$2),CMIMI!$C$15<(Data!B6+$U$2)),1,0)","v":0},0,"42.125_20.5",93,"","",""]
[42.125,20.625,{"$f":"IF(AND(CMIMI!$B$15>(Data!A7-$U$2),CMIMI!$B$15<(Data!A7+$U$2)),1,0)","v":0},{"$f":"IF(AND(CMIMI!$C$15>(Data!B7-$U$2),CMIMI!$C$15<(Data!B7+$U$2)),1,0)","v":0},0,"42.125_20.625",94,577.55968701932727,511.55286564568985,429.04433892864313,null,null,null,null,null,null,null,null,null,null,null,null,null,null,"Kultura","Produkti i sigurimit",null,"Teknologjia e prodhimit"]
[42.125,20.75,{"$f":"IF(AND(CMIMI!$B$15>(Data!A8-$U$2),CMIMI!$B$15<(Data!A8+$U$2)),1,0)","v":0},{"$f":"IF(AND(CMIMI!$C$15>(Data!B8-$U$2),CMIMI!$C$15<(Data!B8+$U$2)),1,0)","v":0},0,"42.125_20.75",95,"","","",null,null,null,null,null,null,null,null,null,null,null,null,null,null,"Mjedra","Produkti indeks per sigurimin e mjedres",null,"Intensive"]
[42.125,20.875,{"$f":"IF(AND(CMIMI!$B$15>(Data!A9-$U$2),CMIMI!$B$15<(Data!A9+$U$2)),1,0)","v":0},{"$f":"IF(AND(CMIMI!$C$15>(Data!B9-$U$2),CMIMI!$C$15<(Data!B9+$U$2)),1,0)","v":0},0,"42.125_20.875",96,"","","",null,null,null,null,null,null,null,null,null,null,null,null,null,null,"Speci","Produkti indeks per sigurimin e specit",null,"Gjysem-intensive"]
[42.125,21,{"$f":"IF(AND(CMIMI!$B$15>(Data!A10-$U$2),CMIMI!$B$15<(Data!A10+$U$2)),1,0)","v":0},{"$f":"IF(AND(CMIMI!$C$15>(Data!B10-$U$2),CMIMI!$C$15<(Data!B10+$U$2)),1,0)","v":0},0,"42.125_21",97,"","","",null,null,null,null,null,null,null,null,null,null,null,null,null,null,"Vreshta","Produkti indeks per sigurimin e vreshtes"]
[42.125,21.125,{"$f":"IF(AND(CMIMI!$B$15>(Data!A11-$U$2),CMIMI!$B$15<(Data!A11+$U$2)),1,0)","v":0},{"$f":"IF(AND(CMIMI!$C$15>(Data!B11-$U$2),CMIMI!$C$15<(Data!B11+$U$2)),1,0)","v":0},0,"42.125_21.125",98,"","","",null,null,null,null,null,null,null,null,null,null,null,null,null,null,"Kumbulla","Produkti indeks per sigurimin e kumbulles"]
[42.125,21.25,{"$f":"IF(AND(CMIMI!$B$15>(Data!A12-$U$2),CMIMI!$B$15<(Data!A12+$U$2)),1,0)","v":0},{"$f":"IF(AND(CMIMI!$C$15>(Data!B12-$U$2),CMIMI!$C$15<(Data!B12+$U$2)),1,0)","v":0},0,"42.125_21.25",99,"","","",null,null,null,null,null,null,null,null,null,null,null,null,null,null,"Molla","Produkti indeks per sigurimin e molles"]
[42.125,21.375,{"$f":"IF(AND(CMIMI!$B$15>(Data!A13-$U$2),CMIMI!$B$15<(Data!A13+$U$2)),1,0)","v":0},{"$f":"IF(AND(CMIMI!$C$15>(Data!B13-$U$2),CMIMI!$C$15<(Data!B13+$U$2)),1,0)","v":0},0,"42.125_21.375",100,"","","",null,null,null,null,null,null,null,null,null,null,null,null,null,null,"Dredheza","Produkti indeks per sigurimin e dredhezes"]
[42.25,20.375,{"$f":"IF(AND(CMIMI!$B$15>(Data!A14-$U$2),CMIMI!$B$15<(Data!A14+$U$2)),1,0)","v":0},{"$f":"IF(AND(CMIMI!$C$15>(Data!B14-$U$2),CMIMI!$C$15<(Data!B14+$U$2)),1,0)","v":0},0,"42.25_20.375",82,"","",""]
[42.25,20.5,{"$f":"IF(AND(CMIMI!$B$15>(Data!A15-$U$2),CMIMI!$B$15<(Data!A15+$U$2)),1,0)","v":0},{"$f":"IF(AND(CMIMI!$C$15>(Data!B15-$U$2),CMIMI!$C$15<(Data!B15+$U$2)),1,0)","v":0},0,"42.25_20.5",83,392.0697012802276,347.26173541963016,291.25177809388339]
[42.25,20.625,{"$f":"IF(AND(CMIMI!$B$15>(Data!A16-$U$2),CMIMI!$B$15<(Data!A16+$U$2)),1,0)","v":0},{"$f":"IF(AND(CMIMI!$C$15>(Data!B16-$U$2),CMIMI!$C$15<(Data!B16+$U$2)),1,0)","v":0},0,"42.25_20.625",84,422.92703888098617,374.59252015173064,314.17437174016118]
[42.25,20.75,{"$f":"IF(AND(CMIMI!$B$15>(Data!A17-$U$2),CMIMI!$B$15<(Data!A17+$U$2)),1,0)","v":0},{"$f":"IF(AND(CMIMI!$C$15>(Data!B17-$U$2),CMIMI!$C$15<(Data!B17+$U$2)),1,0)","v":0},0,"42.25_20.75",85,577.55968701932727,511.55286564568985,429.04433892864313]
[42.25,20.875,{"$f":"IF(AND(CMIMI!$B$15>(Data!A18-$U$2),CMIMI!$B$15<(Data!A18+$U$2)),1,0)","v":0},{"$f":"IF(AND(CMIMI!$C$15>(Data!B18-$U$2),CMIMI!$C$15<(Data!B18+$U$2)),1,0)","v":0},0,"42.25_20.875",86,"","",""]
[42.25,21,{"$f":"IF(AND(CMIMI!$B$15>(Data!A19-$U$2),CMIMI!$B$15<(Data!A19+$U$2)),1,0)","v":0},{"$f":"IF(AND(CMIMI!$C$15>(Data!B19-$U$2),CMIMI!$C$15<(Data!B19+$U$2)),1,0)","v":0},0,"42.25_21",87,"","","",null,null,null,null,null,null,null,null,null,null,null,null,null,null,null,null,"Grid. No","PRICE"]
[42.25,21.125,{"$f":"IF(AND(CMIMI!$B$15>(Data!A20-$U$2),CMIMI!$B$15<(Data!A20+$U$2)),1,0)","v":0},{"$f":"IF(AND(CMIMI!$C$15>(Data!B20-$U$2),CMIMI!$C$15<(Data!B20+$U$2)),1,0)","v":0},0,"42.25_21.125",88,764.64216944801035,677.25449293966631,568.01989730423622,null,null,null,null,null,null,null,null,null,null,null,null,null,null,null,null,{"$f":"IFERROR(VLOOKUP(1,E2:I105,3,FALSE), \"\")","v":""},{"$f":"VLOOKUP(AA20,$G$2:$H$105,2,FALSE)","v":{"$error":"#N/A"}},"Int",{"$f":"IFERROR(AB20*CMIMI!A15,\"nuk ofrohet sigurim bujqesor\")","v":"nuk ofrohet sigurim bujqesor"}]
[42.25,21.25,{"$f":"IF(AND(CMIMI!$B$15>(Data!A21-$U$2),CMIMI!$B$15<(Data!A21+$U$2)),1,0)","v":0},{"$f":"IF(AND(CMIMI!$C$15>(Data!B21-$U$2),CMIMI!$C$15<(Data!B21+$U$2)),1,0)","v":0},0,"42.25_21.25",89,"","","",null,null,null,null,null,null,null,null,null,null,null,null,null,null,null,null,null,{"$f":"VLOOKUP(AA20,G2:I105,3,FALSE)","v":{"$error":"#N/A"}},"Comb",{"$f":"IFERROR(AB21*CMIMI!A15,\"nuk ofrohet sigurim bujqesor\")","v":"nuk ofrohet sigurim bujqesor"}]
[42.25,21.375,{"$f":"IF(AND(CMIMI!$B$15>(Data!A22-$U$2),CMIMI!$B$15<(Data!A22+$U$2)),1,0)","v":0},{"$f":"IF(AND(CMIMI!$C$15>(Data!B22-$U$2),CMIMI!$C$15<(Data!B22+$U$2)),1,0)","v":0},0,"42.25_21.375",90,"","","",null,null,null,null,null,null,null,null,null,null,null,null,null,null,null,null,null,{"$f":"VLOOKUP(AA20,G2:J105,4,FALSE)","v":{"$error":"#N/A"}},"Trad",{"$f":"IFERROR(AB22*CMIMI!A15,\"nuk ofrohet sigurim bujqesor\")","v":"nuk ofrohet sigurim bujqesor"}]
[42.25,21.5,{"$f":"IF(AND(CMIMI!$B$15>(Data!A23-$U$2),CMIMI!$B$15<(Data!A23+$U$2)),1,0)","v":0},{"$f":"IF(AND(CMIMI!$C$15>(Data!B23-$U$2),CMIMI!$C$15<(Data!B23+$U$2)),1,0)","v":0},0,"42.25_21.5",91,"","","",null,null,null,null,null,null,null,null,null,null,null,null,null,null,null,null,null,{"$f":"CMIMI!B19","v":0},"Ngar","Int"]
[42.25,21.625,{"$f":"IF(AND(CMIMI!$B$15>(Data!A24-$U$2),CMIMI!$B$15<(Data!A24+$U$2)),1,0)","v":0},{"$f":"IF(AND(CMIMI!$C$15>(Data!B24-$U$2),CMIMI!$C$15<(Data!B24+$U$2)),1,0)","v":0},0,"42.25_21.625",92,"","","",null,null,null,null,null,null,null,null,null,null,null,null,null,"Int","Pr+ngar",{"$f":"(AB20*AB23)+AB20","v":{"$error":"#N/A"}},null,null,"Ngar","Comb"]
[42.375,20.25,{"$f":"IF(AND(CMIMI!$B$15>(Data!A25-$U$2),CMIMI!$B$15<(Data!A25+$U$2)),1,0)","v":0},{"$f":"IF(AND(CMIMI!$C$15>(Data!B25-$U$2),CMIMI!$C$15<(Data!B25+$U$2)),1,0)","v":0},0,"42.375_20.25",70,392.0697012802276,347.26173541963016,291.25177809388339,null,null,null,null,null,null,null,null,null,null,null,null,null,"Comb",null,{"$f":"(AB21*AB23)+AB21","v":{"$error":"#N/A"}}]
[42.375,20.375,{"$f":"IF(AND(CMIMI!$B$15>(Data!A26-$U$2),CMIMI!$B$15<(Data!A26+$U$2)),1,0)","v":0},{"$f":"IF(AND(CMIMI!$C$15>(Data!B26-$U$2),CMIMI!$C$15<(Data!B26+$U$2)),1,0)","v":0},0,"42.375_20.375",71,392.0697012802276,347.26173541963016,291.25177809388339,null,null,null,null,null,null,null,null,null,null,null,null,null,"Trad",null,{"$f":"(AB22*AB23)+AB22","v":{"$error":"#N/A"}},null,{"$f":"CMIMI!C19","v":0},"TVSH","Int+Comb+Trad"]
[42.375,20.5,{"$f":"IF(AND(CMIMI!$B$15>(Data!A27-$U$2),CMIMI!$B$15<(Data!A27+$U$2)),1,0)","v":0},{"$f":"IF(AND(CMIMI!$C$15>(Data!B27-$U$2),CMIMI!$C$15<(Data!B27+$U$2)),1,0)","v":0},0,"42.375_20.5",72,304.90354594112398,270.05742640499551,226.49977698483497]
[42.375,20.625,{"$f":"IF(AND(CMIMI!$B$15>(Data!A28-$U$2),CMIMI!$B$15<(Data!A28+$U$2)),1,0)","v":0},{"$f":"IF(AND(CMIMI!$C$15>(Data!B28-$U$2),CMIMI!$C$15<(Data!B28+$U$2)),1,0)","v":0},0,"42.375_20.625",73,304.90354594112398,270.05742640499551,226.49977698483497]
[42.375,20.75,{"$f":"IF(AND(CMIMI!$B$15>(Data!A29-$U$2),CMIMI!$B$15<(Data!A29+$U$2)),1,0)","v":0},{"$f":"IF(AND(CMIMI!$C$15>(Data!B29-$U$2),CMIMI!$C$15<(Data!B29+$U$2)),1,0)","v":0},0,"42.375_20.75",74,379.45057728919744,336.08479702757489,281.8775717005467]
[42.375,20.875,{"$f":"IF(AND(CMIMI!$B$15>(Data!A30-$U$2),CMIMI!$B$15<(Data!A30+$U$2)),1,0)","v":0},{"$f":"IF(AND(CMIMI!$C$15>(Data!B30-$U$2),CMIMI!$C$15<(Data!B30+$U$2)),1,0)","v":0},0,"42.375_20.875",75,"","","",null,null,null,null,null,null,null,null,null,null,null,null,null,null,null,null,null,{"$f":"(Z24*AB26)+Z24","v":{"$error":"#N/A"}},"Final pr","Int"]
[42.375,21,{"$f":"IF(AND(CMIMI!$B$15>(Data!A31-$U$2),CMIMI!$B$15<(Data!A31+$U$2)),1,0)","v":0},{"$f":"IF(AND(CMIMI!$C$15>(Data!B31-$U$2),CMIMI!$C$15<(Data!B31+$U$2)),1,0)","v":0},0,"42.375_21",76,"","","",null,null,null,null,null,null,null,null,null,null,null,null,null,null,null,null,null,{"$f":"(Z25*AB26)+Z25","v":{"$error":"#N/A"}},"Final pr","Comb"]
[42.375,21.125,{"$f":"IF(AND(CMIMI!$B$15>(Data!A32-$U$2),CMIMI!$B$15<(Data!A32+$U$2)),1,0)","v":0},{"$f":"IF(AND(CMIMI!$C$15>(Data!B32-$U$2),CMIMI!$C$15<(Data!B32+$U$2)),1,0)","v":0},0,"42.375_21.125",77,514.78338238313597,455.95099582506327,382.41051262747243,null,null,null,null,null,null,null,null,null,null,null,null,null,null,null,null,null,{"$f":"(Z26*AB26)+Z26","v":{"$error":"#N/A"}},"Final pr","Trad"]
[42.375,21.25,{"$f":"IF(AND(CMIMI!$B$15>(Data!A33-$U$2),CMIMI!$B$15<(Data!A33+$U$2)),1,0)","v":0},{"$f":"IF(AND(CMIMI!$C$15>(Data!B33-$U$2),CMIMI!$C$15<(Data!B33+$U$2)),1,0)","v":0},0,"42.375_21.25",78,259.00984773253884,229.40872227739155,192.40731545845745]
[42.375,21.375,{"$f":"IF(AND(CMIMI!$B$15>(Data!A34-$U$2),CMIMI!$B$15<(Data!A34+$U$2)),1,0)","v":0},{"$f":"IF(AND(CMIMI!$C$15>(Data!B34-$U$2),CMIMI!$C$15<(Data!B34+$U$2)),1,0)","v":0},0,"42.375_21.375",79,259.00984773253884,229.40872227739155,192.40731545845745,null,null,null,null,null,null,null,null,null,null,null,null,null,null,null,null,null,{"$f":"IFERROR(AB30*CMIMI!A15,\"nuk ofrohet sigurim bujqesor\")","v":"nuk ofrohet sigurim bujqesor"},"FINAL","Int"]
[42.375,21.5,{"$f":"IF(AND(CMIMI!$B$15>(Data!A35-$U$2),CMIMI!$B$15<(Data!A35+$U$2)),1,0)","v":0},{"$f":"IF(AND(CMIMI!$C$15>(Data!B35-$U$2),CMIMI!$C$15<(Data!B35+$U$2)),1,0)","v":0},0,"42.375_21.5",80,259.00984773253884,229.40872227739155,192.40731545845745,null,null,null,null,null,null,null,null,null,null,null,null,null,null,null,null,null,{"$f":"IFERROR(AB31*CMIMI!A15,\"nuk ofrohet sigurim bujqesor\")","v":"nuk ofrohet sigurim bujqesor"},"FINAL","comb"]
[42.375,21.625,{"$f":"IF(AND(CMIMI!$B$15>(Data!A36-$U$2),CMIMI!$B$15<(Data!A36+$U$2)),1,0)","v":0},{"$f":"IF(AND(CMIMI!$C$15>(Data!B36-$U$2),CMIMI!$C$15<(Data!B36+$U$2)),1,0)","v":0},0,"42.375_21.625",81,"","","",null,null,null,null,null,null,null,null,null,null,null,null,null,null,null,null,null,{"$f":"IFERROR(AB32*CMIMI!A15,\"nuk ofrohet sigurim bujqesor\")","v":"nuk ofrohet sigurim bujqesor"},"FINAL","trad"]
[42.5,20.125,{"$f":"IF(AND(CMIMI!$B$15>(Data!A37-$U$2),CMIMI!$B$15<(Data!A37+$U$2)),1,0)","v":0},{"$f":"IF(AND(CMIMI!$C$15>(Data!B37-$U$2),CMIMI!$C$15<(Data!B37+$U$2)),1,0)","v":0},0,"42.5_20.125",56,"","",""]
[42.5,20.25,{"$f":"IF(AND(CMIMI!$B$15>(Data!A38-$U$2),CMIMI!$B$15<(Data!A38+$U$2)),1,0)","v":0},{"$f":"IF(AND(CMIMI!$C$15>(Data!B38-$U$2),CMIMI!$C$15<(Data!B38+$U$2)),1,0)","v":0},0,"42.5_20.25",57,"","",""]
[42.5,20.375,{"$f":"IF(AND(CMIMI!$B$15>(Data!A39-$U$2),CMIMI!$B$15<(Data!A39+$U$2)),1,0)","v":0},{"$f":"IF(AND(CMIMI!$C$15>(Data!B39-$U$2),CMIMI!$C$15<(Data!B39+$U$2)),1,0)","v":0},0,"42.5_20.375",58,304.90354594112398,270.05742640499551,226.49977698483497]
[42.5,20.5,{"$f":"IF(AND(CMIMI!$B$15>(Data!A40-$U$2),CMIMI!$B$15<(Data!A40+$U$2)),1,0)","v":0},{"$f":"IF(AND(CMIMI!$C$15>(Data!B40-$U$2),CMIMI!$C$15<(Data!B40+$U$2)),1,0)","v":0},0,"42.5_20.5",59,"","",""]
[42.5,20.625,{"$f":"IF(AND(CMIMI!$B$15>(Data!A41-$U$2),CMIMI!$B$15<(Data!A41+$U$2)),1,0)","v":0},{"$f":"IF(AND(CMIMI!$C$15>(Data!B41-$U$2),CMIMI!$C$15<(Data!B41+$U$2)),1,0)","v":0},0,"42.5_20.625",60,278.72075138564031,246.86695122728142,207.04970102933279]
[42.5,20.75,{"$f":"IF(AND(CMIMI!$B$15>(Data!A42-$U$2),CMIMI!$B$15<(Data!A42+$U$2)),1,0)","v":0},{"$f":"IF(AND(CMIMI!$C$15>(Data!B42-$U$2),CMIMI!$C$15<(Data!B42+$U$2)),1,0)","v":0},0,"42.5_20.75",61,"","",""]
[42.5,20.875,{"$f":"IF(AND(CMIMI!$B$15>(Data!A43-$U$2),CMIMI!$B$15<(Data!A43+$U$2)),1,0)","v":0},{"$f":"IF(AND(CMIMI!$C$15>(Data!B43-$U$2),CMIMI!$C$15<(Data!B43+$U$2)),1,0)","v":0},0,"42.5_20.875",62,"","",""]
[42.5,21,{"$f":"IF(AND(CMIMI!$B$15>(Data!A44-$U$2),CMIMI!$B$15<(Data!A44+$U$2)),1,0)","v":0},{"$f":"IF(AND(CMIMI!$C$15>(Data!B44-$U$2),CMIMI!$C$15<(Data!B44+$U$2)),1,0)","v":0},0,"42.5_21",63,"","",""]
[42.5,21.125,{"$f":"IF(AND(CMIMI!$B$15>(Data!A45-$U$2),CMIMI!$B$15<(Data!A45+$U$2)),1,0)","v":0},{"$f":"IF(AND(CMIMI!$C$15>(Data!B45-$U$2),CMIMI!$C$15<(Data!B45+$U$2)),1,0)","v":0},0,"42.5_21.125",64,352.6492353988823,312.34646563901003,261.96800343916971]
[42.5,21.25,{"$f":"IF(AND(CMIMI!$B$15>(Data!A46-$U$2),CMIMI!$B$15<(Data!A46+$U$2)),1,0)","v":0},{"$f":"IF(AND(CMIMI!$C$15>(Data!B46-$U$2),CMIMI!$C$15<(Data!B46+$U$2)),1,0)","v":0},0,"42.5_21.25",65,"","",""]
[42.5,21.375,{"$f":"IF(AND(CMIMI!$B$15>(Data!A47-$U$2),CMIMI!$B$15<(Data!A47+$U$2)),1,0)","v":0},{"$f":"IF(AND(CMIMI!$C$15>(Data!B47-$U$2),CMIMI!$C$15<(Data!B47+$U$2)),1,0)","v":0},0,"42.5_21.375",66,"","",""]
[42.5,21.5,{"$f":"IF(AND(CMIMI!$B$15>(Data!A48-$U$2),CMIMI!$B$15<(Data!A48+$U$2)),1,0)","v":0},{"$f":"IF(AND(CMIMI!$C$15>(Data!B48-$U$2),CMIMI!$C$15<(Data!B48+$U$2)),1,0)","v":0},0,"42.5_21.5",67,259.00984773253884,229.40872227739155,192.40731545845745]
[42.5,21.625,{"$f":"IF(AND(CMIMI!$B$15>(Data!A49-$U$2),CMIMI!$B$15<(Data!A49+$U$2)),1,0)","v":0},{"$f":"IF(AND(CMIMI!$C$15>(Data!B49-$U$2),CMIMI!$C$15<(Data!B49+$U$2)),1,0)","v":0},0,"42.5_21.625",68,259.00984773253884,229.40872227739155,192.40731545845745]
[42.5,21.75,{"$f":"IF(AND(CMIMI!$B$15>(Data!A50-$U$2),CMIMI!$B$15<(Data!A50+$U$2)),1,0)","v":0},{"$f":"IF(AND(CMIMI!$C$15>(Data!B50-$U$2),CMIMI!$C$15<(Data!B50+$U$2)),1,0)","v":0},0,"42.5_21.75",69,293.47691161866936,259.93669314796426,218.01142005958295]
[42.625,20,{"$f":"IF(AND(CMIMI!$B$15>(Data!A51-$U$2),CMIMI!$B$15<(Data!A51+$U$2)),1,0)","v":0},{"$f":"IF(AND(CMIMI!$C$15>(Data!B51-$U$2),CMIMI!$C$15<(Data!B51+$U$2)),1,0)","v":0},0,"42.625_20",41,"","",""]
[42.625,20.125,{"$f":"IF(AND(CMIMI!$B$15>(Data!A52-$U$2),CMIMI!$B$15<(Data!A52+$U$2)),1,0)","v":0},{"$f":"IF(AND(CMIMI!$C$15>(Data!B52-$U$2),CMIMI!$C$15<(Data!B52+$U$2)),1,0)","v":0},0,"42.625_20.125",42,"","",""]
[42.625,20.25,{"$f":"IF(AND(CMIMI!$B$15>(Data!A53-$U$2),CMIMI!$B$15<(Data!A53+$U$2)),1,0)","v":0},{"$f":"IF(AND(CMIMI!$C$15>(Data!B53-$U$2),CMIMI!$C$15<(Data!B53+$U$2)),1,0)","v":0},0,"42.625_20.25",43,"","",""]
[42.625,20.375,{"$f":"IF(AND(CMIMI!$B$15>(Data!A54-$U$2),CMIMI!$B$15<(Data!A54+$U$2)),1,0)","v":0},{"$f":"IF(AND(CMIMI!$C$15>(Data!B54-$U$2),CMIMI!$C$15<(Data!B54+$U$2)),1,0)","v":0},0,"42.625_20.375",44,467.85837950138506,414.38885041551248,347.5519390581718]
[42.625,20.5,{"$f":"IF(AND(CMIMI!$B$15>(Data!A55-$U$2),CMIMI!$B$15<(Data!A55+$U$2)),1,0)","v":0},{"$f":"IF(AND(CMIMI!$C$15>(Data!B55-$U$2),CMIMI!$C$15<(Data!B55+$U$2)),1,0)","v":0},0,"42.625_20.5",45,304.90354594112398,270.05742640499551,226.49977698483497]
[42.625,20.625,{"$f":"IF(AND(CMIMI!$B$15>(Data!A56-$U$2),CMIMI!$B$15<(Data!A56+$U$2)),1,0)","v":0},{"$f":"IF(AND(CMIMI!$C$15>(Data!B56-$U$2),CMIMI!$C$15<(Data!B56+$U$2)),1,0)","v":0},0,"42.625_20.625",46,278.72075138564031,246.86695122728142,207.04970102933279]
[42.625,20.75,{"$f":"IF(AND(CMIMI!$B$15>(Data!A57-$U$2),CMIMI!$B$15<(Data!A57+$U$2)),1,0)","v":0},{"$f":"IF(AND(CMIMI!$C$15>(Data!B57-$U$2),CMIMI!$C$15<(Data!B57+$U$2)),1,0)","v":0},0,"42.625_20.75",47,278.72075138564031,246.86695122728142,207.04970102933279]
[42.625,20.875,{"$f":"IF(AND(CMIMI!$B$15>(Data!A58-$U$2),CMIMI!$B$15<(Data!A58+$U$2)),1,0)","v":0},{"$f":"IF(AND(CMIMI!$C$15>(Data!B58-$U$2),CMIMI!$C$15<(Data!B58+$U$2)),1,0)","v":0},0,"42.625_20.875",48,246.94658572767733,218.72411878737134,183.44603511198886]
[42.625,21,{"$f":"IF(AND(CMIMI!$B$15>(Data!A59-$U$2),CMIMI!$B$15<(Data!A59+$U$2)),1,0)","v":0},{"$f":"IF(AND(CMIMI!$C$15>(Data!B59-$U$2),CMIMI!$C$15<(Data!B59+$U$2)),1,0)","v":0},0,"42.625_21",49,"","",""]
[42.625,21.125,{"$f":"IF(AND(CMIMI!$B$15>(Data!A60-$U$2),CMIMI!$B$15<(Data!A60+$U$2)),1,0)","v":0},{"$f":"IF(AND(CMIMI!$C$15>(Data!B60-$U$2),CMIMI!$C$15<(Data!B60+$U$2)),1,0)","v":0},0,"42.625_21.125",50,246.94658572767733,218.72411878737134,183.44603511198886]
[42.625,21.25,{"$f":"IF(AND(CMIMI!$B$15>(Data!A61-$U$2),CMIMI!$B$15<(Data!A61+$U$2)),1,0)","v":0},{"$f":"IF(AND(CMIMI!$C$15>(Data!B61-$U$2),CMIMI!$C$15<(Data!B61+$U$2)),1,0)","v":0},0,"42.625_21.25",51,"","",""]
[42.625,21.375,{"$f":"IF(AND(CMIMI!$B$15>(Data!A62-$U$2),CMIMI!$B$15<(Data!A62+$U$2)),1,0)","v":0},{"$f":"IF(AND(CMIMI!$C$15>(Data!B62-$U$2),CMIMI!$C$15<(Data!B62+$U$2)),1,0)","v":0},0,"42.625_21.375",52,"","",""]
[42.625,21.5,{"$f":"IF(AND(CMIMI!$B$15>(Data!A63-$U$2),CMIMI!$B$15<(Data!A63+$U$2)),1,0)","v":0},{"$f":"IF(AND(CMIMI!$C$15>(Data!B63-$U$2),CMIMI!$C$15<(Data!B63+$U$2)),1,0)","v":0},0,"42.625_21.5",53,"","",""]
[42.625,21.625,{"$f":"IF(AND(CMIMI!$B$15>(Data!A64-$U$2),CMIMI!$B$15<(Data!A64+$U$2)),1,0)","v":0},{"$f":"IF(AND(CMIMI!$C$15>(Data!B64-$U$2),CMIMI!$C$15<(Data!B64+$U$2)),1,0)","v":0},0,"42.625_21.625",54,"","",""]
[42.625,21.75,{"$f":"IF(AND(CMIMI!$B$15>(Data!A65-$U$2),CMIMI!$B$15<(Data!A65+$U$2)),1,0)","v":0},{"$f":"IF(AND(CMIMI!$C$15>(Data!B65-$U$2),CMIMI!$C$15<(Data!B65+$U$2)),1,0)","v":0},0,"42.625_21.75",55,"","",""]
[42.75,20,{"$f":"IF(AND(CMIMI!$B$15>(Data!A66-$U$2),CMIMI!$B$15<(Data!A66+$U$2)),1,0)","v":0},{"$f":"IF(AND(CMIMI!$C$15>(Data!B66-$U$2),CMIMI!$C$15<(Data!B66+$U$2)),1,0)","v":0},0,"42.75_20",26,"","",""]
[42.75,20.125,{"$f":"IF(AND(CMIMI!$B$15>(Data!A67-$U$2),CMIMI!$B$15<(Data!A67+$U$2)),1,0)","v":0},{"$f":"IF(AND(CMIMI!$C$15>(Data!B67-$U$2),CMIMI!$C$15<(Data!B67+$U$2)),1,0)","v":0},{"$f":"IF(C67+D67=2,1,0)","v":0},"42.75_20.125",27,"","",""]
[42.75,20.25,{"$f":"IF(AND(CMIMI!$B$15>(Data!A68-$U$2),CMIMI!$B$15<(Data!A68+$U$2)),1,0)","v":0},{"$f":"IF(AND(CMIMI!$C$15>(Data!B68-$U$2),CMIMI!$C$15<(Data!B68+$U$2)),1,0)","v":0},0,"42.75_20.25",28,"","",""]
[42.75,20.375,{"$f":"IF(AND(CMIMI!$B$15>(Data!A69-$U$2),CMIMI!$B$15<(Data!A69+$U$2)),1,0)","v":0},{"$f":"IF(AND(CMIMI!$C$15>(Data!B69-$U$2),CMIMI!$C$15<(Data!B69+$U$2)),1,0)","v":0},0,"42.75_20.375",29,640.28200211584226,567.10691615974599,475.63805871462574]
[42.75,20.5,{"$f":"IF(AND(CMIMI!$B$15>(Data!A70-$U$2),CMIMI!$B$15<(Data!A70+$U$2)),1,0)","v":0},{"$f":"IF(AND(CMIMI!$C$15>(Data!B70-$U$2),CMIMI!$C$15<(Data!B70+$U$2)),1,0)","v":0},0,"42.75_20.5",30,556.06480855094037,492.51454471654716,413.0767149235557]
[42.75,20.625,{"$f":"IF(AND(CMIMI!$B$15>(Data!A71-$U$2),CMIMI!$B$15<(Data!A71+$U$2)),1,0)","v":0},{"$f":"IF(AND(CMIMI!$C$15>(Data!B71-$U$2),CMIMI!$C$15<(Data!B71+$U$2)),1,0)","v":0},0,"42.75_20.625",31,347.47704661303197,307.76538414297119,258.12580605539517]
[42.75,20.75,{"$f":"IF(AND(CMIMI!$B$15>(Data!A72-$U$2),CMIMI!$B$15<(Data!A72+$U$2)),1,0)","v":0},{"$f":"IF(AND(CMIMI!$C$15>(Data!B72-$U$2),CMIMI!$C$15<(Data!B72+$U$2)),1,0)","v":0},0,"42.75_20.75",32,138.30317117715427,122.49709447119378,102.73949858874316]
[42.75,20.875,{"$f":"IF(AND(CMIMI!$B$15>(Data!A73-$U$2),CMIMI!$B$15<(Data!A73+$U$2)),1,0)","v":0},{"$f":"IF(AND(CMIMI!$C$15>(Data!B73-$U$2),CMIMI!$C$15<(Data!B73+$U$2)),1,0)","v":0},0,"42.75_20.875",33,138.30317117715427,122.49709447119378,102.73949858874316]
[42.75,21,{"$f":"IF(AND(CMIMI!$B$15>(Data!A74-$U$2),CMIMI!$B$15<(Data!A74+$U$2)),1,0)","v":0},{"$f":"IF(AND(CMIMI!$C$15>(Data!B74-$U$2),CMIMI!$C$15<(Data!B74+$U$2)),1,0)","v":0},0,"42.75_21",34,232.16469732040878,205.63158905521922,172.46520372373223]
[42.75,21.125,{"$f":"IF(AND(CMIMI!$B$15>(Data!A75-$U$2),CMIMI!$B$15<(Data!A75+$U$2)),1,0)","v":0},{"$f":"IF(AND(CMIMI!$C$15>(Data!B75-$U$2),CMIMI!$C$15<(Data!B75+$U$2)),1,0)","v":0},0,"42.75_21.125",35,232.16469732040878,205.63158905521922,172.46520372373223]
[42.75,21.25,{"$f":"IF(AND(CMIMI!$B$15>(Data!A76-$U$2),CMIMI!$B$15<(Data!A76+$U$2)),1,0)","v":0},{"$f":"IF(AND(CMIMI!$C$15>(Data!B76-$U$2),CMIMI!$C$15<(Data!B76+$U$2)),1,0)","v":0},0,"42.75_21.25",36,"","",""]
[42.75,21.375,{"$f":"IF(AND(CMIMI!$B$15>(Data!A77-$U$2),CMIMI!$B$15<(Data!A77+$U$2)),1,0)","v":0},{"$f":"IF(AND(CMIMI!$C$15>(Data!B77-$U$2),CMIMI!$C$15<(Data!B77+$U$2)),1,0)","v":0},0,"42.75_21.375",37,"","",""]
[42.75,21.5,{"$f":"IF(AND(CMIMI!$B$15>(Data!A78-$U$2),CMIMI!$B$15<(Data!A78+$U$2)),1,0)","v":0},{"$f":"IF(AND(CMIMI!$C$15>(Data!B78-$U$2),CMIMI!$C$15<(Data!B78+$U$2)),1,0)","v":0},0,"42.75_21.5",38,"","",""]
[42.75,21.625,{"$f":"IF(AND(CMIMI!$B$15>(Data!A79-$U$2),CMIMI!$B$15<(Data!A79+$U$2)),1,0)","v":0},{"$f":"IF(AND(CMIMI!$C$15>(Data!B79-$U$2),CMIMI!$C$15<(Data!B79+$U$2)),1,0)","v":0},0,"42.75_21.625",39,"","",""]
[42.75,21.75,{"$f":"IF(AND(CMIMI!$B$15>(Data!A80-$U$2),CMIMI!$B$15<(Data!A80+$U$2)),1,0)","v":0},{"$f":"IF(AND(CMIMI!$C$15>(Data!B80-$U$2),CMIMI!$C$15<(Data!B80+$U$2)),1,0)","v":0},0,"42.75_21.75",40,"","",""]
[42.875,20.25,{"$f":"IF(AND(CMIMI!$B$15>(Data!A81-$U$2),CMIMI!$B$15<(Data!A81+$U$2)),1,0)","v":0},{"$f":"IF(AND(CMIMI!$C$15>(Data!B81-$U$2),CMIMI!$C$15<(Data!B81+$U$2)),1,0)","v":0},0,"42.875_20.25",16,"","",""]
[42.875,20.375,{"$f":"IF(AND(CMIMI!$B$15>(Data!A82-$U$2),CMIMI!$B$15<(Data!A82+$U$2)),1,0)","v":0},{"$f":"IF(AND(CMIMI!$C$15>(Data!B82-$U$2),CMIMI!$C$15<(Data!B82+$U$2)),1,0)","v":0},0,"42.875_20.375",17,"","",""]
[42.875,20.5,{"$f":"IF(AND(CMIMI!$B$15>(Data!A83-$U$2),CMIMI!$B$15<(Data!A83+$U$2)),1,0)","v":0},{"$f":"IF(AND(CMIMI!$C$15>(Data!B83-$U$2),CMIMI!$C$15<(Data!B83+$U$2)),1,0)","v":0},0,"42.875_20.5",18,"","",""]
[42.875,20.625,{"$f":"IF(AND(CMIMI!$B$15>(Data!A84-$U$2),CMIMI!$B$15<(Data!A84+$U$2)),1,0)","v":0},{"$f":"IF(AND(CMIMI!$C$15>(Data!B84-$U$2),CMIMI!$C$15<(Data!B84+$U$2)),1,0)","v":0},0,"42.875_20.625",19,487.37015235457068,431.67070637119116,362.04639889196676]
[42.875,20.75,{"$f":"IF(AND(CMIMI!$B$15>(Data!A85-$U$2),CMIMI!$B$15<(Data!A85+$U$2)),1,0)","v":0},{"$f":"IF(AND(CMIMI!$C$15>(Data!B85-$U$2),CMIMI!$C$15<(Data!B85+$U$2)),1,0)","v":0},0,"42.875_20.75",20,"","",""]
[42.875,20.875,{"$f":"IF(AND(CMIMI!$B$15>(Data!A86-$U$2),CMIMI!$B$15<(Data!A86+$U$2)),1,0)","v":0},{"$f":"IF(AND(CMIMI!$C$15>(Data!B86-$U$2),CMIMI!$C$15<(Data!B86+$U$2)),1,0)","v":0},0,"42.875_20.875",21,138.30317117715427,122.49709447119378,102.73949858874316]
[42.875,21,{"$f":"IF(AND(CMIMI!$B$15>(Data!A87-$U$2),CMIMI!$B$15<(Data!A87+$U$2)),1,0)","v":0},{"$f":"IF(AND(CMIMI!$C$15>(Data!B87-$U$2),CMIMI!$C$15<(Data!B87+$U$2)),1,0)","v":0},0,"42.875_21",22,"","",""]
[42.875,21.125,{"$f":"IF(AND(CMIMI!$B$15>(Data!A88-$U$2),CMIMI!$B$15<(Data!A88+$U$2)),1,0)","v":0},{"$f":"IF(AND(CMIMI!$C$15>(Data!B88-$U$2),CMIMI!$C$15<(Data!B88+$U$2)),1,0)","v":0},0,"42.875_21.125",23,138.30317117715427,122.49709447119378,102.73949858874316]
[42.875,21.25,{"$f":"IF(AND(CMIMI!$B$15>(Data!A89-$U$2),CMIMI!$B$15<(Data!A89+$U$2)),1,0)","v":0},{"$f":"IF(AND(CMIMI!$C$15>(Data!B89-$U$2),CMIMI!$C$15<(Data!B89+$U$2)),1,0)","v":0},0,"42.875_21.25",24,246.94658572767733,218.72411878737134,183.44603511198886]
[42.875,21.375,{"$f":"IF(AND(CMIMI!$B$15>(Data!A90-$U$2),CMIMI!$B$15<(Data!A90+$U$2)),1,0)","v":0},{"$f":"IF(AND(CMIMI!$C$15>(Data!B90-$U$2),CMIMI!$C$15<(Data!B90+$U$2)),1,0)","v":0},0,"42.875_21.375",25,"","",""]
[43,20.5,{"$f":"IF(AND(CMIMI!$B$15>(Data!A91-$U$2),CMIMI!$B$15<(Data!A91+$U$2)),1,0)","v":0},{"$f":"IF(AND(CMIMI!$C$15>(Data!B91-$U$2),CMIMI!$C$15<(Data!B91+$U$2)),1,0)","v":0},0,"43_20.5",9,"","",""]
[43,20.625,{"$f":"IF(AND(CMIMI!$B$15>(Data!A92-$U$2),CMIMI!$B$15<(Data!A92+$U$2)),1,0)","v":0},{"$f":"IF(AND(CMIMI!$C$15>(Data!B92-$U$2),CMIMI!$C$15<(Data!B92+$U$2)),1,0)","v":0},0,"43_20.625",10,"","",""]
[43,20.75,{"$f":"IF(AND(CMIMI!$B$15>(Data!A93-$U$2),CMIMI!$B$15<(Data!A93+$U$2)),1,0)","v":0},{"$f":"IF(AND(CMIMI!$C$15>(Data!B93-$U$2),CMIMI!$C$15<(Data!B93+$U$2)),1,0)","v":0},0,"43_20.75",11,"","",""]
[43,20.875,{"$f":"IF(AND(CMIMI!$B$15>(Data!A94-$U$2),CMIMI!$B$15<(Data!A94+$U$2)),1,0)","v":0},{"$f":"IF(AND(CMIMI!$C$15>(Data!B94-$U$2),CMIMI!$C$15<(Data!B94+$U$2)),1,0)","v":0},0,"43_20.875",12,"","",""]
[43,21,{"$f":"IF(AND(CMIMI!$B$15>(Data!A95-$U$2),CMIMI!$B$15<(Data!A95+$U$2)),1,0)","v":0},{"$f":"IF(AND(CMIMI!$C$15>(Data!B95-$U$2),CMIMI!$C$15<(Data!B95+$U$2)),1,0)","v":0},0,"43_21",13,299.53724353256018,265.30441570026755,222.51338090990183]
[43,21.125,{"$f":"IF(AND(CMIMI!$B$15>(Data!A96-$U$2),CMIMI!$B$15<(Data!A96+$U$2)),1,0)","v":0},{"$f":"IF(AND(CMIMI!$C$15>(Data!B96-$U$2),CMIMI!$C$15<(Data!B96+$U$2)),1,0)","v":0},0,"43_21.125",14,299.53724353256018,265.30441570026755,222.51338090990183]
[43,21.25,{"$f":"IF(AND(CMIMI!$B$15>(Data!A97-$U$2),CMIMI!$B$15<(Data!A97+$U$2)),1,0)","v":0},{"$f":"IF(AND(CMIMI!$C$15>(Data!B97-$U$2),CMIMI!$C$15<(Data!B97+$U$2)),1,0)","v":0},0,"43_21.25",15,"","",""]
[43.125,20.625,{"$f":"IF(AND(CMIMI!$B$15>(Data!A98-$U$2),CMIMI!$B$15<(Data!A98+$U$2)),1,0)","v":0},{"$f":"IF(AND(CMIMI!$C$15>(Data!B98-$U$2),CMIMI!$C$15<(Data!B98+$U$2)),1,0)","v":0},0,"43.125_20.625",4,"","",""]
[43.125,20.75,{"$f":"IF(AND(CMIMI!$B$15>(Data!A99-$U$2),CMIMI!$B$15<(Data!A99+$U$2)),1,0)","v":0},{"$f":"IF(AND(CMIMI!$C$15>(Data!B99-$U$2),CMIMI!$C$15<(Data!B99+$U$2)),1,0)","v":0},0,"43.125_20.75",5,"","",""]
[43.125,20.875,{"$f":"IF(AND(CMIMI!$B$15>(Data!A100-$U$2),CMIMI!$B$15<(Data!A100+$U$2)),1,0)","v":0},{"$f":"IF(AND(CMIMI!$C$15>(Data!B100-$U$2),CMIMI!$C$15<(Data!B100+$U$2)),1,0)","v":0},0,"43.125_20.875",6,"","",""]
[43.125,21,{"$f":"IF(AND(CMIMI!$B$15>(Data!A101-$U$2),CMIMI!$B$15<(Data!A101+$U$2)),1,0)","v":0},{"$f":"IF(AND(CMIMI!$C$15>(Data!B101-$U$2),CMIMI!$C$15<(Data!B101+$U$2)),1,0)","v":0},0,"43.125_21",7,523.33074008929793,463.52151265052106,388.75997835204993]
[43.125,21.125,{"$f":"IF(AND(CMIMI!$B$15>(Data!A102-$U$2),CMIMI!$B$15<(Data!A102+$U$2)),1,0)","v":0},{"$f":"IF(AND(CMIMI!$C$15>(Data!B102-$U$2),CMIMI!$C$15<(Data!B102+$U$2)),1,0)","v":0},0,"43.125_21.125",8,"","",""]
[43.25,20.625,{"$f":"IF(AND(CMIMI!$B$15>(Data!A103-$U$2),CMIMI!$B$15<(Data!A103+$U$2)),1,0)","v":0},{"$f":"IF(AND(CMIMI!$C$15>(Data!B103-$U$2),CMIMI!$C$15<(Data!B103+$U$2)),1,0)","v":0},0,"43.25_20.625",1,"","",""]
[43.25,20.75,{"$f":"IF(AND(CMIMI!$B$15>(Data!A104-$U$2),CMIMI!$B$15<(Data!A104+$U$2)),1,0)","v":0},{"$f":"IF(AND(CMIMI!$C$15>(Data!B104-$U$2),CMIMI!$C$15<(Data!B104+$U$2)),1,0)","v":0},0,"43.25_20.75",2,"","",""]
[43.25,20.875,{"$f":"IF(AND(CMIMI!$B$15>(Data!A105-$U$2),CMIMI!$B$15<(Data!A105+$U$2)),1,0)","v":0},{"$f":"IF(AND(CMIMI!$C$15>(Data!B105-$U$2),CMIMI!$C$15<(Data!B105+$U$2)),1,0)","v":0},0,"43.25_20.875",3,"","",""]

{"sheet":"CMIMI","index":1,"n_rows":31,"n_cols":3,"rows_kept":31,"cut":false,"hidden":false,"merged":[[9,1,9,2],[28,1,28,2],[23,1,23,2],[26,1,26,2],[12,1,12,2],[11,1,11,2]]}
[null,"Udhezimet e perdorimit"]
[1,"Shenoni siperfaqen ne ha tek pjesa e destinuar me ngjyre te gjelbert (Nen Kolonon Nr. 1)"]
[2,"Shenoni koordinatat e parceles, separi gjeresia gjeografike, pastaj gjatesia gjeografike (Nen Kolonon Nr. 2)"]
[3,"Shenoni vleren e perqindjes se ngarkeses per kompanine tuaj te sigurimit"]
[4,"Shenoni vleren e perqindjes se Tatimit mbi Vleren e Shtuar (TVSH)"]
[5,"Klikoni butonin \"Kalkulo\""]
[6,"Printoni dokumentin me cmime ne formatin e shtrire \"Landscape\", nese ju nevojitet si dokument i printuar. "]
[7,"Ne fund, klikoni butonin \"Pastro\". "]
[]
[null,"SPECI"]
[]
[1,2]
[null,"Koordinatat"]
["Siperfaqen ne ha","Gjeresia gjeografike (Latitude)","Gjatesia gjeografike (Longitude)"]
[]
[]
[null,3,4]
[null,"Ngarkesa (%)","TVSH (%)"]
[]
[]
[]
[]
[]
["Nr. I GRIDIT","Teknologjia Intensive"]
[{"$f":"Data!AA20","v":""},"Cmimi (I paster)","Cmimi+Ngarkesa+TVSH"]
[]
[null,"Teknologjia gjysem-intensive"]
[]
[null,"Teknologjia tradicionale"]
[]
["Cdo pjese me ngjyre te gjelber, eshte e editueshme, mund te ndryshohet. "]